BEGIN:VCALENDAR
VERSION:2.0
PRODID:-//FIKTA - ECPv6.7.1//NONSGML v1.0//EN
CALSCALE:GREGORIAN
METHOD:PUBLISH
X-WR-CALNAME:FIKTA
X-ORIGINAL-URL:https://fikta.it
X-WR-CALDESC:Eventi per FIKTA
REFRESH-INTERVAL;VALUE=DURATION:PT1H
X-Robots-Tag:noindex
X-PUBLISHED-TTL:PT1H
BEGIN:VTIMEZONE
TZID:Europe/Rome
BEGIN:DAYLIGHT
TZOFFSETFROM:+0100
TZOFFSETTO:+0200
TZNAME:CEST
DTSTART:20260329T010000
END:DAYLIGHT
BEGIN:STANDARD
TZOFFSETFROM:+0200
TZOFFSETTO:+0100
TZNAME:CET
DTSTART:20261025T010000
END:STANDARD
END:VTIMEZONE
BEGIN:VEVENT
DTSTART;TZID=Europe/Rome:20260419T093000
DTEND;TZID=Europe/Rome:20260419T123000
DTSTAMP:20260423T044520
CREATED:20260416T072512Z
LAST-MODIFIED:20260416T085122Z
UID:12543-1776591000-1776601800@fikta.it
SUMMARY:CSAK + CORSO ARBITRI E TECNICI EMILIA ROMAGNA - RAVENNA - 19 APRILE 2026
DESCRIPTION:CSAK + CORSO ARBITRI E TECNICI EMILIA ROMAGNA – RAVENNA – 19 APRILE 2026 \nInformiamo che il prossimo incontro CSAK Emilia Romagna 2026 si terrà il giorno 19 aprile 2026 presso la palestra dell’Istituto ITIS Baldini di Via Cassino 71A a Ravenna (RA) dalle ore 9\,30 alle ore 12\,30.\nIn contemporanea al corso CSAK si terrà l’aggiornamento Arbitri e Tecnici della regione.\nGrazie e cordiali saluti.\nSegreteria\nFikta ASD
URL:https://fikta.it/evento/csakem-190426/
LOCATION:PALESTRA ITIS BALDINI RAVENNA\, Via Cassino 71a\, Ravenna\, 48124\, Italy
CATEGORIES:CSAK,Emilia Romagna,Eventi
ATTACH;FMTTYPE=image/jpeg:https://fikta.it/wp-content/uploads/2026/04/LOCANDINA-CSAK-EMILIA-ARBITRI-E-TECNICI-19-APRILE-2026.jpeg
END:VEVENT
BEGIN:VEVENT
DTSTART;TZID=Europe/Rome:20260419T093000
DTEND;TZID=Europe/Rome:20260419T123000
DTSTAMP:20260423T044520
CREATED:20260417T095451Z
LAST-MODIFIED:20260417T111058Z
UID:12554-1776591000-1776601800@fikta.it
SUMMARY:CSAK + CORSO ARBITRI VENETO - VIGONZA (PD) - 19 APRILE 2026
DESCRIPTION:CSAK + CORSO ARBITRI VENETO – VIGONZA (PD) – 19 APRILE 2026 \nInformiamo che il prossimo incontro CSAK Veneto 2026 si terrà il giorno 19 aprile 2026 presso il Palasport Perarolo-Busa in via Atene\, 9a a Vigonza (Padova) dalle ore 9\,30 alle ore 12\,30.\nIn contemporanea al corso CSAK si terrà l’aggiornamento Arbitri della regione tenuto dal responsabile arbitri regionale Maestro Andrea Abbate.\nIn occasione dell’aggiornamento arbitri si segnala che al termine del corso si terranno gli esami per il conseguimento della qualifica di arbitro regionale.\nGrazie e cordiali saluti.\nSegreteria\nFikta ASD
URL:https://fikta.it/evento/csakve-190426/
LOCATION:PALASPORT di PERAROLO-BUSA\, Via Atene 9a\, VIGONZA\, 35010\, Italy
CATEGORIES:CSAK,Eventi,Veneto
ATTACH;FMTTYPE=image/jpeg:https://fikta.it/wp-content/uploads/2026/04/LOCANDINA-CSAK-VENETO-ARBITRI-19-APRILE-2026.jpeg
END:VEVENT
END:VCALENDAR