BEGIN:VCALENDAR
VERSION:2.0
PRODID:-//FIKTA - ECPv6.7.1//NONSGML v1.0//EN
CALSCALE:GREGORIAN
METHOD:PUBLISH
X-ORIGINAL-URL:https://fikta.it
X-WR-CALDESC:Eventi per FIKTA
REFRESH-INTERVAL;VALUE=DURATION:PT1H
X-Robots-Tag:noindex
X-PUBLISHED-TTL:PT1H
BEGIN:VTIMEZONE
TZID:Europe/Rome
BEGIN:DAYLIGHT
TZOFFSETFROM:+0100
TZOFFSETTO:+0200
TZNAME:CEST
DTSTART:20260329T010000
END:DAYLIGHT
BEGIN:STANDARD
TZOFFSETFROM:+0200
TZOFFSETTO:+0100
TZNAME:CET
DTSTART:20261025T010000
END:STANDARD
END:VTIMEZONE
BEGIN:VEVENT
DTSTART;TZID=Europe/Rome:20260322T093000
DTEND;TZID=Europe/Rome:20260322T123000
DTSTAMP:20260423T043033
CREATED:20260227T055211Z
LAST-MODIFIED:20260302T103417Z
UID:11961-1774171800-1774182600@fikta.it
SUMMARY:CSAK + CORSO ARBITRI EMILIA ROMAGNA 2026 - REGGIO EMILIA - 22 MARZO 2026
DESCRIPTION:CSAK + CORSO ARBITRI EMILIA ROMAGNA 2026 – REGGIO EMILIA – 22 MARZO 2026 \nInformiamo che il prossimo incontro CSAK Emilia Romagna 2026 si terrà il giorno 22 marzo 2026 presso il Palazzetto SPORT ARENA Via Cisalpina Reggio Emilia (RE)  dalle ore 9\,30 alle ore 12\,30.\nIn contemporanea al corso CSAK si terrà l’aggiornamento arbitri della regione.\nGrazie e cordiali saluti.\nSegreteria\nFikta ASD
URL:https://fikta.it/evento/csakre-220326/
LOCATION:PALAZZETTO SPORT ARENA REGGIO NELL’EMILIA (RE)\, Via Cisalpina\,\, Reggio Nell'Emilia (RE)\, 42124\, Italy
CATEGORIES:CSAK,Emilia Romagna,Eventi
ATTACH;FMTTYPE=image/jpeg:https://fikta.it/wp-content/uploads/2026/02/CSAK-2026_22MARZO.jpg
END:VEVENT
END:VCALENDAR