BEGIN:VCALENDAR
VERSION:2.0
PRODID:-//FIKTA - ECPv6.7.1//NONSGML v1.0//EN
CALSCALE:GREGORIAN
METHOD:PUBLISH
X-WR-CALNAME:FIKTA
X-ORIGINAL-URL:https://fikta.it
X-WR-CALDESC:Eventi per FIKTA
REFRESH-INTERVAL;VALUE=DURATION:PT1H
X-Robots-Tag:noindex
X-PUBLISHED-TTL:PT1H
BEGIN:VTIMEZONE
TZID:Europe/Rome
BEGIN:DAYLIGHT
TZOFFSETFROM:+0100
TZOFFSETTO:+0200
TZNAME:CEST
DTSTART:20260329T010000
END:DAYLIGHT
BEGIN:STANDARD
TZOFFSETFROM:+0200
TZOFFSETTO:+0100
TZNAME:CET
DTSTART:20261025T010000
END:STANDARD
END:VTIMEZONE
BEGIN:VEVENT
DTSTART;TZID=Europe/Rome:20260228T153000
DTEND;TZID=Europe/Rome:20260228T183000
DTSTAMP:20260423T075047
CREATED:20260222T173807Z
LAST-MODIFIED:20260223T175848Z
UID:11925-1772292600-1772303400@fikta.it
SUMMARY:CORSO AGGIORNAMENTO ARBITRI\, PDG e 5° CSAK SARDEGNA – THIESI (SS) – 28 FEBBRAIO 2026
DESCRIPTION:CORSO AGGIORNAMENTO ARBITRI\, PDG e 5° CSAK SARDEGNA – THIESI (SS) – 28 FEBBRAIO 2026 \nAbbiamo il piacere di segnalare che il prossimo 28 febbraio 2026\, presso la Palestra Istituto Secondario Via della Repubblica – 07047 Thiesi (SS) \, in concomitanza con l’appuntamento CSAK Sardegna\, si terrà il corso di aggiornamento Arbitri e Presidenti di Giuria Fikta Sardegna con il seguente orario dalle 15\,30 alle 18\,30. \nL’aggiornamento PdG sarà tenuto dalla PdG Nazionale Piera Marras \nPer informazioni contattare il Referente Territoriale Maestro Mocci Antonello \nGrazie e cordiali saluti \nSegreteria\nFikta asd
URL:https://fikta.it/evento/csaksa-280226/
LOCATION:PALESTRA ISTITUTO SECONDARIO THIESI (SS)\, VIA DELLA REPUBBLICA\, THIESI\, 07047\, Italy
CATEGORIES:CSAK,Eventi,Sardegna
ATTACH;FMTTYPE=image/jpeg:https://fikta.it/wp-content/uploads/2026/02/LOCANDINA-AGG-PDG-ARBITRI-SARDEGNA-28-FEBB-2026.jpeg
END:VEVENT
END:VCALENDAR