BEGIN:VCALENDAR
VERSION:2.0
PRODID:-//FIKTA - ECPv6.7.1//NONSGML v1.0//EN
CALSCALE:GREGORIAN
METHOD:PUBLISH
X-ORIGINAL-URL:https://fikta.it
X-WR-CALDESC:Eventi per FIKTA
REFRESH-INTERVAL;VALUE=DURATION:PT1H
X-Robots-Tag:noindex
X-PUBLISHED-TTL:PT1H
BEGIN:VTIMEZONE
TZID:Europe/Rome
BEGIN:DAYLIGHT
TZOFFSETFROM:+0100
TZOFFSETTO:+0200
TZNAME:CEST
DTSTART:20260329T010000
END:DAYLIGHT
BEGIN:STANDARD
TZOFFSETFROM:+0200
TZOFFSETTO:+0100
TZNAME:CET
DTSTART:20261025T010000
END:STANDARD
END:VTIMEZONE
BEGIN:VEVENT
DTSTART;TZID=Europe/Rome:20260222T090000
DTEND;TZID=Europe/Rome:20260222T120000
DTSTAMP:20260423T060906
CREATED:20251203T092237Z
LAST-MODIFIED:20260122T110308Z
UID:11157-1771750800-1771761600@fikta.it
SUMMARY:CORSO CSAK UMBRIA/MARCHE 2025/2026 - PROSSIMO INCONTRO 22 FEBBRAIO 2026
DESCRIPTION:CORSO CSAK UMBRIA/MARCHE 2025/2026 – PROSSIMO INCONTRO 22 FEBBRAIO 2026 \nAbbiamo il piacere di informare che è partito il Corso Specialistico Agonisti Karate – CSAK – Fikta della regione UMBRIA/MARCHE per l’anno 2025/2026 e il prossimo incontro si terrà domenica 22 febbraio 2026\, presso presso la Palestra Comunale\, Via delle Scalette\, 06024 Frazione San Marco Gubbio (PG) con i seguenti orari: \nPROGRAMMA\nOre 9\,00 ritrovo\nOre 9\,30-12\,00 pratica \nUna grande opportunità\, sia per tutti gli atleti che si vogliono avvicinare al mondo delle competizioni di karate che per coloro che vogliono effettuare un percorso di specializzazione e approfondimento agonistico con docenti di altissimo livello. Una scelta vincente per migliorare la propria preparazione agonistica/atletica e confrontarsi con gli agonisti della propria regione. \nIl corso è aperto a tutti gli associati Fikta in regola con le procedure di iscrizione\, certificato medico agonistico e grado caricato sul portale Fikta.Cloud. Per partecipare agli incontri è necessario essere muniti delle protezioni regolamentari da gara e di abbigliamento idoneo per effettuare la preparazione atletica (secondo richieste dei docenti). \nL’iscrizione è consentita\, tramite i propri referenti tecnici\, a partire dalla categoria esordienti fino alla categoria seniores (35 anni) con grado minimo cintura BLU. \nSTAFF TECNICO DOCENTI\nAmbrogi Francesco\nTomassini Lorenza\nMenichetti Pietro \nDATE INCONTRI\n22 febbraio 2025\n28 settembre 2025\n11 ottobre 2025\n23 novembre 2025\n22 febbraio 2026\nGli eventi del 2026 saranno comunicati prossimamente \nORARIO APPUNTAMENTI\nVenerdì sera\nSabato pomeriggio\nDomenica mattina \nQUOTE E ISCRIZIONE\nLa quota di partecipazione è gratuita.\nLe iscrizioni dovranno essere effettuate dal Referente Tecnico sul portale  www.fikta.cloud  a partire dal 3 dicembre 2025. \nGrazie e cordiali saluti.\nSegreteria\nFIKTA ASD \nReferente Territoriale Umbria/Marche\nM° Pietro Menichetti
URL:https://fikta.it/evento/csak-umbria-2025-2026/
LOCATION:PALESTRA COMUNALE SAN MARCO GUBBIO\, Via delle Scalette\, San Marco Gubbio (PG)\, 06024\, Italy
CATEGORIES:CSAK,Eventi,Umbria Marche
ATTACH;FMTTYPE=image/jpeg:https://fikta.it/wp-content/uploads/2025/12/Immagine-WhatsApp-2025-12-04-ore-12.28.57_6d7af407.jpg
END:VEVENT
BEGIN:VEVENT
DTSTART;TZID=Europe/Rome:20260222T093000
DTEND;TZID=Europe/Rome:20260222T123000
DTSTAMP:20260423T060906
CREATED:20260123T095028Z
LAST-MODIFIED:20260123T095201Z
UID:11478-1771752600-1771763400@fikta.it
SUMMARY:CSAK + CORSO ARBITRI EMILIA ROMAGNA 2026 - RAVENNA - 22 FEBBRAIO 2026
DESCRIPTION:CSAK + CORSO ARBITRI EMILIA ROMAGNA 2026 – RAVENNA – 22 FEBBRAIO 2026 \nInformiamo che il prossimo incontro CSAK Emilia Romagna 2026 si terrà il giorno 22 febbraio 2026 presso la palestra dell’Istituto ITIS Baldini di Via Cassino 71A a Ravenna (RA) dalle ore 9\,30 alle ore 12\,30.\nIn contemporanea al corso CSAK si terrà l’aggiornamento arbitri della regione.\nGrazie e cordiali saluti.\nSegreteria\nFikta ASD
URL:https://fikta.it/evento/csakem-220226/
LOCATION:PALESTRA ITIS BALDINI RAVENNA\, Via Cassino 71a\, Ravenna\, 48124\, Italy
CATEGORIES:CSAK,Emilia Romagna,Eventi
ATTACH;FMTTYPE=image/jpeg:https://fikta.it/wp-content/uploads/2026/01/CSAK-22feb2026.jpg
END:VEVENT
END:VCALENDAR