BEGIN:VCALENDAR
VERSION:2.0
PRODID:-//FIKTA - ECPv6.7.1//NONSGML v1.0//EN
CALSCALE:GREGORIAN
METHOD:PUBLISH
X-ORIGINAL-URL:https://fikta.it
X-WR-CALDESC:Eventi per FIKTA
REFRESH-INTERVAL;VALUE=DURATION:PT1H
X-Robots-Tag:noindex
X-PUBLISHED-TTL:PT1H
BEGIN:VTIMEZONE
TZID:Europe/Rome
BEGIN:DAYLIGHT
TZOFFSETFROM:+0100
TZOFFSETTO:+0200
TZNAME:CEST
DTSTART:20260329T010000
END:DAYLIGHT
BEGIN:STANDARD
TZOFFSETFROM:+0200
TZOFFSETTO:+0100
TZNAME:CET
DTSTART:20261025T010000
END:STANDARD
END:VTIMEZONE
BEGIN:VEVENT
DTSTART;TZID=Europe/Rome:20260131T160000
DTEND;TZID=Europe/Rome:20260131T180000
DTSTAMP:20260423T061852
CREATED:20260121T131250Z
LAST-MODIFIED:20260122T081826Z
UID:11467-1769875200-1769882400@fikta.it
SUMMARY:PARTENZA CORSO CSAK CAMPANIA 2026 – PRIMO INCONTRO 31 GENNAIO 2026 – BELLIZZI (SA)
DESCRIPTION:PARTENZA CORSO CSAK CAMPANIA 2026 – PRIMO INCONTRO 31 GENNAIO 2026 – BELLIZZI (SA)\n \nAbbiamo il piacere di segnalare che in data 31 gennaio 2026 partirà il Corso Specialistico Agonisti Karate CSAK – Fikta della regione CAMPANIA per l’anno 2026.\nIl primo incontro si terrà presso la palestra della Arashi Club – Via N. Copernico 63/65 – 84082 Bellizzi (SA) con il seguente orario: 16\,00 – 18\,30 \nUna grande opportunità\, sia per tutti gli atleti che si vogliono avvicinare al mondo delle competizioni di karate che per coloro che vogliono effettuare un percorso di specializzazione e approfondimento agonistico con docenti di altissimo livello a loro volta campioni nazionali e internazionali. Una scelta vincente per migliorare la propria preparazione agonistica/atletica e confrontarsi con gli agonisti della propria regione e degli altri centri regionali CSAK.\nIl corso è aperto a tutti gli associati Fikta in regola con le procedure di iscrizione\, certificato medico agonistico e grado caricato sul portale www.fikta.cloud.\nPer partecipare agli incontri è necessario essere muniti delle protezioni regolamentari da gara e di abbigliamento idoneo per effettuare la preparazione atletica (secondo richieste dei docenti).\nL’iscrizione è consentita\, tramite i propri referenti tecnici\, dalla cintura verde a partire dalla categoria esordienti (12 anni). \nDOCENTE\nIl corso sarà tenuto dal Maestro Massimiliano Guerrasio responsabile tecnico Campania \nDATE INCONTRI\n31 Gennaio 2026\n22 Febbraio 2026\n14 Marzo 2026\n19 Aprile 2026\n24 Maggio 2026\n13 Giugno 2026\n26 Settembre 2026\n10 Ottobre 2026\n14 Novembre 2026\n12 Dicembre 2026 \nORARIO\nDalle ore 16\,00 alle ore 18\,30 \nQUOTE e ISCRIZIONI\nLa quota di partecipazione è pari a 80\,00 euro.\nLe iscrizioni dovranno essere effettuate dal Referente Tecnico sul portale  www.fikta.cloud  entro il prossimo 29 gennaio 2026.\nIl pagamento dovrà essere effettuato dal Referente Tecnico tramite bonifico bancario intestato a FIKTA ASD sul seguente IBAN IT18H0760101600000016906208\nNella causale del bonifico intestato a Fikta ASD si prega d’inserire la seguente dicitura: Nome Cognome Referente Tecnico – CSAKCA26\nSi prega d’inviare copia del bonifico effettuato con l’elenco degli atleti iscritti alla segreteria centroservizi@fikta.it\n \nRestiamo a disposizione per ogni informazione. \nGrazie e cordiali saluti. \nLa Segreteria\nFIKTA ASD \nReferente Territoriale Campania\nMaestro Giuseppe Giardullo
URL:https://fikta.it/evento/csakca-2026/
LOCATION:ARASHI CLUB BELLIZZI (SA)\, Via Copernico 63/65\, Bellizzi (SA)\, 84092\, Italy
CATEGORIES:Campania,CSAK,Eventi
ATTACH;FMTTYPE=image/jpeg:https://fikta.it/wp-content/uploads/2026/01/Locandina-csak-Campania-31-gennaio-2026-1.jpeg
END:VEVENT
END:VCALENDAR