BEGIN:VCALENDAR
VERSION:2.0
PRODID:-//FIKTA - ECPv6.7.1//NONSGML v1.0//EN
CALSCALE:GREGORIAN
METHOD:PUBLISH
X-ORIGINAL-URL:https://fikta.it
X-WR-CALDESC:Eventi per FIKTA
REFRESH-INTERVAL;VALUE=DURATION:PT1H
X-Robots-Tag:noindex
X-PUBLISHED-TTL:PT1H
BEGIN:VTIMEZONE
TZID:Europe/Rome
BEGIN:DAYLIGHT
TZOFFSETFROM:+0100
TZOFFSETTO:+0200
TZNAME:CEST
DTSTART:20260329T010000
END:DAYLIGHT
BEGIN:STANDARD
TZOFFSETFROM:+0200
TZOFFSETTO:+0100
TZNAME:CET
DTSTART:20261025T010000
END:STANDARD
END:VTIMEZONE
BEGIN:VEVENT
DTSTART;TZID=Europe/Rome:20260118T083000
DTEND;TZID=Europe/Rome:20260118T140000
DTSTAMP:20260423T090423
CREATED:20250820T143120Z
LAST-MODIFIED:20251231T094149Z
UID:9336-1768725000-1768744800@fikta.it
SUMMARY:GARA CSAK LOMBARDIA  – CHIARI (BS) - 18 GENNAIO 2026
DESCRIPTION:GARA CSAK LOMBARDIA  – CHIARI (BS) – 18 GENNAIO 2026 \nAbbiamo il piacere di segnalare che il prossimo 18 gennaio 2026 si terrà una competizione riservata ai partecipanti dello CSAK Lombardia presso la palestra delle scuole di Via Lancini – Chiari (BS). \nPROGRAMMA (indicativo)\nOre 8\,30 Ritrovo\nOre 9\,00 – 14\,00 Gara \nREGOLAMENTO GARA CSAK LOMBARDIA 2026\nCompetizione di Kata e Kumite Individuali\, maschile e femminile\, riservata a tutti gli atleti Agonisti iscritti allo CSAK Lombardia 2025/26\, CINTURE NERE E MARRONI appartenenti alle seguenti classi:\nCADETTI (2011/2010)\nSPERANZE (2009/2008)\nJUNIORES (2007/2006/2005)\nSENIORES (dal 2004 al 1991) \nISCRIZIONI\nI Referenti Tecnici dovranno provvedere all’iscrizione dei propri allievi accedendo a www.fikta.cloud entro e non oltre domenica 11 gennaio 2026. \nKATA INDIVIDUALE\nLa competizione Kata Individuale è suddivisa per le seguenti classi\, marroni e nere assieme e suddivisa per peso maschile e femminile come da indicazioni che si possono trovare sul portale all’atto dell’iscrizione dell’atleta:\nCADETTI (2011/2010): maschile –65 +65 kg / femminile –55 +55 kg\nSPERANZE (2009/2008): maschile –65 +65 kg / femminile –55 +55 kg\nJUNIORES (2007/2006/2005): maschile –70 +70 kg femminile –55 +55 kg)\,\nSENIORES (dal 2004 al 1991): OPEN maschile e femminile\nEliminatorie a bandierine per tutte le classi: kata a scelta dell’arbitro centrale tra HEIAN 2/3/4/5 – TEKKI 1\nRipescaggio: i due vincitori di poule ripescano gli atleti che si sono incontrati con i due finalisti e i 4 atleti eseguiranno la finale a punteggio.\nFinali a punteggio 4 atleti per singola categoria (vedi sopra):\nCADETTI: a scelta tra Kanku Dai e Bassai Dai (marroni e nere)\nSPERANZE e JUNIOR: per le marroni a scelta dell’atleta tra Kanku Dai e Bassai Dai – per le nere a scelta dell’atleta tra Enpi e Gankaku\nSENIOR: Tokui Kata per tutti (marrone e nere)\nNel caso in cui gli atleti fossero 6 o meno di 6 si procederà direttamente alla finale con l’esecuzione del Kata previsto nelle rispettive classi.\nN.B. Per la gara di kata individuale gli Atleti verranno suddivisi in due categorie in base al loro peso (come per il kumite)\, ad esclusione dei Senior. \nKUMITE\nJIYU KUMITE PER TUTTI\nCADETTI (2011/2010): maschile –65 +65 kg / femminile –55 +55 kg\nSPERANZE (2009/2008): maschile –65 +65 kg / femminile –55 +55 kg\nJUNIORES (2007/2006/2005): maschile –70 +70 kg femminile –55 +55 kg)\,\nSENIORES (dal 2004 al 1991): OPEN maschile e femminile \nPROTEZIONI E ACCESSORI\nNella specialità jiyu kumite ogni atleta si deve munire: paradenti\, conchiglia protettiva (uomini)\, paraseno imbottito non metallico (donne)\, guantini regolamentari.\nNon è ammesso alcun altro tipo di protezione se non autorizzato preventivamente dal medico di gara.\nNon è ammesso indossare accessori metallici quali: orecchini\, piercing\, anelli\, braccialetti\, collanine\, mollette per capelli\, ecc\, anche nelle prove di Kata.\nQualora le donne volessero indossare un indumento sotto al karate-gi dovrà essere di colore bianco (es: maglietta giro collo o V\, body\, top o reggiseni sportivi).\nTutti gli atleti dovranno avere una cintura rossa personale.\nRicordiamo che le tecniche di SHUTO ed HAITO sono escluse dalle competizioni di Kumite\, finali comprese\, fino a nuove disposizioni.\nPer tutte le disposizioni mediche a tutela degli atleti si rimanda al Regolamento Medico \nCordiali saluti\nCOMMISSIONE TECNICA\nLOMBARDIA
URL:https://fikta.it/evento/csaklo-180126/
LOCATION:CHIARI PALESTRA SCUOLA PRIMARIA\, VIA LANCINI\, CHIARI\, 25032\, Italia
CATEGORIES:CSAK,Eventi,Lombardia
ATTACH;FMTTYPE=image/jpeg:https://fikta.it/wp-content/uploads/2025/08/LOCANDINA-TROFEO-LOMBARDIA-15-FEBBRAIO-2026-1.jpeg
END:VEVENT
BEGIN:VEVENT
DTSTART;TZID=Europe/Rome:20260118T090000
DTEND;TZID=Europe/Rome:20260118T113000
DTSTAMP:20260423T090423
CREATED:20260113T132659Z
LAST-MODIFIED:20260113T133002Z
UID:11407-1768726800-1768735800@fikta.it
SUMMARY:CORSO CSAK 2025/2026 FRIULI VENEZIA GIULIA – MARSURE DI POVOLETTO (UD) – 18 GENNAIO 2026
DESCRIPTION:CORSO CSAK 2025/2026 FRIULI VENEZIA GIULIA – MARSURE DI POVOLETTO (UD) – 18 GENNAIO 2026 \nAbbiamo il piacere di segnalare che i prossimi allenamenti del corso CSAK Friuli Venezia Giulia si terranno \nDATA / ORA / LOCALITA’ INCONTRI \n18 gennaio 2026\nRitrovo                              ore 09\,00\ninizio allenamento         ore 09\,30\nfine allenamento            ore 11\,30 \nPalestra Scuola Secondaria 1° Grado “J. Pirona” – Via Europa rientranza di via Locanda 33040 Marsure di Povoletto (UD) – Coordinate 46.13111\, 13.29742\nhttps://maps.app.goo.gl/amwfpFXT5Cyd6kYp9  \n15 febbraio 2026\nRitrovo                              ore 09\,00\ninizio allenamento         ore 09\,30\nfine allenamento            ore 11\,30 \nSede Palazzetto ASD PAF Basket – Via Europa rientranza di via Locanda – 33040 Marsure di Povoletto (UD) – Coordinate 46.13055\, 13.29739\nhttps://maps.app.goo.gl/NpeYrRBsUCA1PgVTA \n01 marzo 2026\nRitrovo                              ore 09\,00\ninizio allenamento         ore 09\,30\nfine allenamento            ore 11\,30 \nSede Palazzetto ASD PAF Basket – Via Europa rientranza di via Locanda – 33040 Marsure di Povoletto (UD) – Coordinate 46.13055\, 13.29739\nhttps://maps.app.goo.gl/NpeYrRBsUCA1PgVTA \n19 aprile 2026 (da definire)\n03 maggio 2026 (da definire)\n22 marzo 2026 (data di riserva / a cura del Direttore Tecnico Regionale) \nDOCENTE: Shihan M° Romano Cimenti (Direttore Tecnico FIKTA FVG) \nCordiali Saluti \nMaestro Vincenzo Bellantuono\nReferente Territoriale Friuli Venezia Giulia
URL:https://fikta.it/evento/csakfvg-180126/
LOCATION:Palestra Scuola Secondaria 1° Grado “J. Pirona” – Via Europa rientranza di via Locanda 33040 Marsure di Povoletto (UD)\, Via Europa rientranza di via Locanda\, Marsure di Povoletto (UD)\, 33040\, Italy
CATEGORIES:CSAK,Eventi,Friuli VG
END:VEVENT
END:VCALENDAR