BEGIN:VCALENDAR
VERSION:2.0
PRODID:-//FIKTA - ECPv6.7.1//NONSGML v1.0//EN
CALSCALE:GREGORIAN
METHOD:PUBLISH
X-ORIGINAL-URL:https://fikta.it
X-WR-CALDESC:Eventi per FIKTA
REFRESH-INTERVAL;VALUE=DURATION:PT1H
X-Robots-Tag:noindex
X-PUBLISHED-TTL:PT1H
BEGIN:VTIMEZONE
TZID:Europe/Rome
BEGIN:DAYLIGHT
TZOFFSETFROM:+0100
TZOFFSETTO:+0200
TZNAME:CEST
DTSTART:20250330T010000
END:DAYLIGHT
BEGIN:STANDARD
TZOFFSETFROM:+0200
TZOFFSETTO:+0100
TZNAME:CET
DTSTART:20251026T010000
END:STANDARD
END:VTIMEZONE
BEGIN:VEVENT
DTSTART;TZID=Europe/Rome:20251115T143000
DTEND;TZID=Europe/Rome:20251115T180000
DTSTAMP:20260423T130139
CREATED:20251107T122007Z
LAST-MODIFIED:20251107T195125Z
UID:10634-1763217000-1763229600@fikta.it
SUMMARY:PARTENZA CORSO CSAK PUGLIA 2025/2026 – PROSSIMO INCONTRO 15 NOVEMBRE 2025 – TARANTO (TA) PALESTRA OKINAWA
DESCRIPTION:PARTENZA CORSO CSAK PUGLIA 2025/2026 – PROSSIMO INCONTRO 15 NOVEMBRE 2025 – TARANTO (TA) PALESTRA OKINAWA \nAbbiamo il piacere di informare che è partito il Corso Specialistico Agonisti Karate – CSAK – Fikta della regione PUGLIA per l’anno 2025/2026. \nUna grande opportunità\, sia per tutti gli atleti che si vogliono avvicinare al mondo delle competizioni di karate che per coloro che vogliono effettuare un percorso di specializzazione e approfondimento agonistico con docenti di altissimo livello. Una scelta vincente per migliorare la propria preparazione agonistica/atletica e confrontarsi con gli agonisti della propria regione. \nIl corso è aperto a tutti gli associati Fikta in regola con le procedure di iscrizione\, certificato medico agonistico e grado caricato sul portale Fikta.Cloud. Per partecipare agli incontri è necessario essere muniti delle protezioni regolamentari da gara e di abbigliamento idoneo per effettuare la preparazione atletica (secondo richieste dei docenti). \nL’iscrizione è consentita\, tramite i propri referenti tecnici\, a partire dalla categoria esordienti fino alla categoria seniores (35 anni) con grado minimo cintura gialla. \nSTAFF TECNICO DOCENTI\nRiccardo Ghislanzoni (Responsabile)\nAngelo Potere \nDATE INCONTRI\n15 novembre 2025 – presso Palestra Okinawa – Viale del Lavoro 13 – 74123 Taranto (TA)\nGli eventi successivi saranno comunicati prossimamente \nORARIO APPUNTAMENTI\nOre 15\,30 ritrovo\nOre 16\,00 – 18\,00 allenamento\n \nQUOTE E ISCRIZIONE\nLa quota di partecipazione è pari a 15\,00 euro.\nLe iscrizioni dovranno essere effettuate dal Referente Tecnico sul portale  www.fikta.cloud  a partire dal 8 novembre 2025. \nRestiamo a disposizione per ogni informazione. \n0Grazie e cordiali saluti.\nSegreteria\nFIKTA ASD \nReferente Territoriale Puglia\nM° angelo Potere
URL:https://fikta.it/evento/csakpuglia-151125/
LOCATION:PALESTRA OKINAWA TARANTO (TA)\, Viale del Lavoro 13\, Taranto (TA)\, 74123\, Italy
CATEGORIES:CSAK,Eventi,Puglia
ATTACH;FMTTYPE=image/jpeg:https://fikta.it/wp-content/uploads/2025/11/Immagine-WhatsApp-2025-11-07-ore-17.29.40_1e362e19.jpg
END:VEVENT
END:VCALENDAR