BEGIN:VCALENDAR
VERSION:2.0
PRODID:-//FIKTA - ECPv6.7.1//NONSGML v1.0//EN
CALSCALE:GREGORIAN
METHOD:PUBLISH
X-ORIGINAL-URL:https://fikta.it
X-WR-CALDESC:Eventi per FIKTA
REFRESH-INTERVAL;VALUE=DURATION:PT1H
X-Robots-Tag:noindex
X-PUBLISHED-TTL:PT1H
BEGIN:VTIMEZONE
TZID:Europe/Rome
BEGIN:DAYLIGHT
TZOFFSETFROM:+0100
TZOFFSETTO:+0200
TZNAME:CEST
DTSTART:20250330T010000
END:DAYLIGHT
BEGIN:STANDARD
TZOFFSETFROM:+0200
TZOFFSETTO:+0100
TZNAME:CET
DTSTART:20251026T010000
END:STANDARD
END:VTIMEZONE
BEGIN:VEVENT
DTSTART;TZID=Europe/Rome:20250928T080000
DTEND;TZID=Europe/Rome:20250928T130000
DTSTAMP:20260423T163005
CREATED:20250826T204410Z
LAST-MODIFIED:20260320T055319Z
UID:9726-1759046400-1759064400@fikta.it
SUMMARY:PARTENZA CORSO CSAK LOMBARDIA 2025/2026 - 28 SETTEMBRE 2025
DESCRIPTION:PARTENZA CORSO CSAK LOMBARDIA 2025/2026\n \nAbbiamo il piacere di segnalare che è possibile iscriversi al Corso Specialistico Agonisti Karate – CSAK – Fikta della regione Lombardia per l’anno 2025/2026. \n10 incontri per una grande opportunità\, sia per tutti gli atleti che si vogliono avvicinare al mondo delle competizioni di karate che per coloro che vogliono effettuare un percorso di specializzazione e approfondimento agonistico con docenti di altissimo livello a loro volta campioni nazionali e internazionali. \nUna scelta vincente per migliorare la propria preparazione agonistica/atletica e confrontarsi con gli agonisti della propria regione. \nIl corso è aperto a tutti gli associati Fikta in regola con le procedure di iscrizione\, certificato medico agonistico e grado caricato sul portale Fikta.Cloud. \nPer partecipare agli incontri è necessario essere muniti delle protezioni regolamentari da gara e di abbigliamento idoneo per effettuare la preparazione atletica (secondo richieste dei docenti). \nL’iscrizione è consentita\, tramite i propri referenti tecnici\, agli atleti pre-agonisti che hanno compiuto i 14 anni (che diventeranno agonisti durante il corso) fino alla categoria seniores (35 anni) con grado minimo cintura marrone. \nDATE INCONTRI\n28 settembre 2025 – Via Ponte del Giuscano 1/2 – 20153 Milano ( loc. Figino )\n12 ottobre 2025 – Palestra Scuole Via Lancini Chiari (BS)\n9 novembre 2025 – PalaIseo Via Iseo Milano (MI)\n14 dicembre 2025 – Palestra Scuole Via Lancini Chiari (BS)\n18 gennaio 2026 + gara riservata CSAK – Palestra Scuole Via Lancini Chiari (BS)\n8 febbraio 2026 – PalaIseo Via Iseo Milano (MI)\n1° marzo 2026 – Palestra Scuole Via Lancini Chiari (BS)\n22 marzo 2026 – Palazzetto dello Sport Via Gramsci 36 – Gaggiano (MI)\n12 aprile 2026 – PalaIseo Via Iseo Milano (MI)\n24 maggio 2026 – Palestra Scuole Via Lancini Chiari (BS)\nLe date del 2026 potrebbero subire variazioni secondo le necessità organizzative. \nORARIO APPUNTAMENTI\nDalle ore 9\,00 alle ore 12\,00 \nQUOTE\nLa quota di partecipazione è di euro 90\,00.\nLe iscrizioni dovranno essere effettuate dal Referente Tecnico sul portale  www.fikta.cloud  entro il prossimo 25 settembre 2025.\nIl pagamento dovrà essere effettuato dal Referente Tecnico tramite bonifico bancario intestato a FIKTA ASD sul seguente IBAN IT18H0760101600000016906208\nNella causale del bonifico intestato a Fikta ASD si prega d’inserire la seguente dicitura: Nome Cognome Referente Tecnico –  CSAKLO 25/26\nSi prega d’inviare copia del bonifico effettuato con l’elenco degli atleti iscritti alla segreteria centroservizi@fikta.it\n \nRestiamo a disposizione per ogni informazione. \nGrazie e cordiali saluti.\nSegreteria\nFIKTA ASD\nReferente Territoriale Lombardia\nM° Vito Di Bari \nScarica la circolare \n 
URL:https://fikta.it/evento/csaklo-280925/
LOCATION:SEF MEDIOLANUM FIGINO (MI)\, VIA PONTE DEL GIUSCANO 1/2\, MILANO\, 20153\, Italy
CATEGORIES:CSAK,Eventi,Lombardia
ATTACH;FMTTYPE=image/jpeg:https://fikta.it/wp-content/uploads/2025/08/Immagine-WhatsApp-2025-08-29-ore-20.34.44_0c50f4e4.jpg
END:VEVENT
END:VCALENDAR