BEGIN:VCALENDAR
VERSION:2.0
PRODID:-//FIKTA - ECPv6.7.1//NONSGML v1.0//EN
CALSCALE:GREGORIAN
METHOD:PUBLISH
X-WR-CALNAME:FIKTA
X-ORIGINAL-URL:https://fikta.it
X-WR-CALDESC:Eventi per FIKTA
REFRESH-INTERVAL;VALUE=DURATION:PT1H
X-Robots-Tag:noindex
X-PUBLISHED-TTL:PT1H
BEGIN:VTIMEZONE
TZID:Europe/Rome
BEGIN:DAYLIGHT
TZOFFSETFROM:+0100
TZOFFSETTO:+0200
TZNAME:CEST
DTSTART:20250330T010000
END:DAYLIGHT
BEGIN:STANDARD
TZOFFSETFROM:+0200
TZOFFSETTO:+0100
TZNAME:CET
DTSTART:20251026T010000
END:STANDARD
END:VTIMEZONE
BEGIN:VEVENT
DTSTART;TZID=Europe/Rome:20250927T143000
DTEND;TZID=Europe/Rome:20250927T180000
DTSTAMP:20260423T191227
CREATED:20250925T081712Z
LAST-MODIFIED:20250926T090745Z
UID:10169-1758983400-1758996000@fikta.it
SUMMARY:PARTENZA CORSO CSAK LAZIO 2025/2026 - 1° INCONTRO 27 SETTEMBRE 2025 – VEROLI (FR)
DESCRIPTION:PARTENZA CORSO CSAK LAZIO 2025/2026\n1° INCONTRO 27 SETTEMBRE 2025 – VEROLI (FR) – PALESTRA FLEX N FIT  Via P. Mignardi 14 – 03029 Veroli (FR)\n \nAbbiamo il piacere di segnalare che è possibile iscriversi al Corso Specialistico Agonisti Karate – CSAK – Fikta della regione LAZIO per l’anno 2025/2026. \nUna grande opportunità\, sia per tutti gli atleti che si vogliono avvicinare al mondo delle competizioni di karate che per coloro che vogliono effettuare un percorso di specializzazione e approfondimento agonistico con docenti di altissimo livello a loro volta campioni nazionali e internazionali.\nUna scelta vincente per migliorare la propria preparazione agonistica/atletica e confrontarsi con gli agonisti della propria regione. \nIl corso è aperto a tutti gli associati Fikta in regola con le procedure di iscrizione\, certificato medico agonistico e grado caricato sul portale www.fikta.cloud. \nPer partecipare agli incontri è necessario essere muniti delle protezioni regolamentari da gara e di abbigliamento idoneo per effettuare la preparazione atletica (secondo richieste dei docenti). \nL’iscrizione è consentita\, tramite i propri referenti tecnici\, agli atleti agonisti da esordienti a seniores con grado minimo cintura marrone. \nI docenti del corso saranno i maestri L. Pavoni\, G. Spinelli\, M. Mattacola e A. Sperati. \nDATE INCONTRI\n27 settembre 2025\npresso PALESTRA FLEX N FIT – Via P. Mignardi 14 – 03029 Veroli (FR)\nOrario: ore 14\,30 ritrovo – ore 15\,00/18\,00 pratica\n11 ottobre 2025\nTriangolare Lazio\, Umbria e Campania presso Palestra Polo Didattico – Via Palmiro Togliatti – 02100 Rieti (RI)\nOrario: ore 14\,00 ritrovo – ore 14\,30/17\,00 pratica – ore 17\,00/18\,30 gara\n29 novembre 2025\n17 gennaio 2026\n7 febbraio 2026\n21 marzo 2026\n19 aprile 2026\n24 maggio 2026\n13 giugno 2026 \nLe date sono indicative e potrebbero subire variazioni secondo necessità. \nQUOTE\nLa quota di partecipazione è in fase di definizione.\nLe iscrizioni dovranno essere effettuate dal Referente Tecnico sul portale  www.fikta.cloud  a partire dal prossimo 26 settembre 2025.\nIl pagamento dovrà essere effettuato dal Referente Tecnico tramite bonifico bancario intestato a FIKTA ASD sul seguente IBAN IT18H0760101600000016906208\nNella causale del bonifico intestato a Fikta ASD si prega d’inserire la seguente dicitura: Nome Cognome Referente Tecnico – CSAKLA 25/26\nSi prega d’inviare copia del bonifico effettuato con l’elenco degli atleti iscritti alla segreteria centroservizi@fikta.it\n \nRestiamo a disposizione per ogni informazione. \nGrazie e cordiali saluti.\nSegreteria\nFIKTA ASD \nReferente Territoriale Lazio\nMaestro Cesare Mostarda
URL:https://fikta.it/evento/csakla-270925/
LOCATION:FLEXnFIT VEROLI (FR)\, Via Prima Mignardi 14\, Veroli\, 03029\, Italy
CATEGORIES:CSAK,Eventi,Lazio
ATTACH;FMTTYPE=image/jpeg:https://fikta.it/wp-content/uploads/2025/09/Immagine-WhatsApp-2025-09-25-ore-17.42.52_10c90c12.jpg
END:VEVENT
BEGIN:VEVENT
DTSTART;TZID=Europe/Rome:20250927T160000
DTEND;TZID=Europe/Rome:20250927T190000
DTSTAMP:20260423T191227
CREATED:20250925T084921Z
LAST-MODIFIED:20250926T090136Z
UID:10177-1758988800-1758999600@fikta.it
SUMMARY:PARTENZA CORSO CSAK SARDEGNA 2025/2026 - 1° INCONTRO 27 SETTEMBRE 2025 – THIESI (SS)
DESCRIPTION:PARTENZA CORSO CSAK SARDEGNA 2025/2026\n1° INCONTRO 27 SETTEMBRE 2025 – THIESI (SS) – PALESTRA ISTITUTO SECONDARIO  VIA DELLA REPUBBLICA – 07047 THIESI (SS)\n \nAbbiamo il piacere di segnalare che è possibile iscriversi al Corso Specialistico Agonisti Karate CSAK – Fikta della regione SARDEGNA per l’anno 2025/2026. \nUna grande opportunità\, sia per tutti gli atleti che si vogliono avvicinare al mondo delle competizioni di karate che per coloro che vogliono effettuare un percorso di specializzazione e approfondimento agonistico con docenti di altissimo livello a loro volta campioni nazionali e internazionali.\nUna scelta vincente per migliorare la propria preparazione agonistica/atletica e confrontarsi con gli agonisti della propria regione e degli altri centri regionali CSAK. \nIl corso è aperto a tutti gli associati Fikta in regola con le procedure di iscrizione\, certificato medico agonistico e grado caricato sul portale www.fikta.cloud. \nPer partecipare agli incontri è necessario essere muniti delle protezioni regolamentari da gara e di abbigliamento idoneo per effettuare la preparazione atletica (secondo richieste dei docenti). \nL’iscrizione è consentita\, tramite i propri referenti tecnici\, agli atleti agonisti da esordienti a seniores con grado minimo cintura verde. \nDATE INCONTRI\n27 settembre 2025\n8 novembre 2025\n20 dicembre 2025\nDurante il corso sarà data informazione delle date successive per un totale di 8 incontri\npresso PALESTRA ISTITUTO SECONDARIO  VIA DELLA REPUBBLICA – 07047 THIESI (SS)\nOrario dalle ore 16\,00 alle ore 19\,00 \nQUOTE\nLa quota di partecipazione è pari a euro 70\,00.\nLe iscrizioni dovranno essere effettuate dal Referente Tecnico sul portale  www.fikta.cloud  a partire dal 26 settembre 2025.\nIl pagamento dovrà essere effettuato dal Referente Tecnico tramite bonifico bancario intestato a FIKTA ASD sul seguente IBAN IT18H0760101600000016906208\nNella causale del bonifico intestato a Fikta ASD si prega d’inserire la seguente dicitura: Nome Cognome Referente Tecnico – CSAKSA 25/26\nSi prega d’inviare copia del bonifico effettuato con l’elenco degli atleti iscritti alla segreteria centroservizi@fikta.it\n \nRestiamo a disposizione per ogni informazione. \nGrazie e cordiali saluti.\nSegreteria\nFIKTA ASD \nReferente Territoriale Sardegna\nMaestro Antonello Mocci
URL:https://fikta.it/evento/csaksa-270925/
LOCATION:PALESTRA ISTITUTO SECONDARIO THIESI (SS)\, VIA DELLA REPUBBLICA\, THIESI\, 07047\, Italy
CATEGORIES:CSAK,Eventi,Sardegna
ATTACH;FMTTYPE=image/jpeg:https://fikta.it/wp-content/uploads/2025/09/Immagine-WhatsApp-2025-09-25-ore-18.05.45_112e304d.jpg
END:VEVENT
END:VCALENDAR