BEGIN:VCALENDAR
VERSION:2.0
PRODID:-//FIKTA - ECPv6.7.1//NONSGML v1.0//EN
CALSCALE:GREGORIAN
METHOD:PUBLISH
X-WR-CALNAME:FIKTA
X-ORIGINAL-URL:https://fikta.it
X-WR-CALDESC:Eventi per FIKTA
REFRESH-INTERVAL;VALUE=DURATION:PT1H
X-Robots-Tag:noindex
X-PUBLISHED-TTL:PT1H
BEGIN:VTIMEZONE
TZID:Europe/Rome
BEGIN:DAYLIGHT
TZOFFSETFROM:+0100
TZOFFSETTO:+0200
TZNAME:CEST
DTSTART:20250330T010000
END:DAYLIGHT
BEGIN:STANDARD
TZOFFSETFROM:+0200
TZOFFSETTO:+0100
TZNAME:CET
DTSTART:20251026T010000
END:STANDARD
END:VTIMEZONE
BEGIN:VEVENT
DTSTART;TZID=Europe/Rome:20250510T143000
DTEND;TZID=Europe/Rome:20250510T180000
DTSTAMP:20260424T170708
CREATED:20250506T072315Z
LAST-MODIFIED:20250506T072834Z
UID:8388-1746887400-1746900000@fikta.it
SUMMARY:CORSO AGONISTI CSAK LAZIO ANNO 2025 - 10 MAGGIO 2025 - VEROLI (FR)
DESCRIPTION:CORSO AGONISTI CSAK LAZIO ANNO 2025 – 10 MAGGIO 2025 – VEROLI (FR) \nAllenamento sabato 10 maggio 2025\npresso PALESTRA FLEX N FIT – Via P. Mignardi 14 – 03029 Veroli (FR)\nTenuto dai seguenti tecnici: Luca Pavoni\, Riccardo Binaco\, Giovanni Spinelli e Andrea Mostarda\nRitrovo ore 14\,30\nPratica ore 15:00 – 18:00
URL:https://fikta.it/evento/csak-lazio-10052025/
LOCATION:FLEXnFIT VEROLI (FR)\, Via Prima Mignardi 14\, Veroli\, 03029\, Italy
CATEGORIES:CSAK,Eventi,Lazio
ATTACH;FMTTYPE=image/jpeg:https://fikta.it/wp-content/uploads/2025/05/Immagine-WhatsApp-2025-05-03-ore-12.16.10_eaa15222.jpg
END:VEVENT
END:VCALENDAR