BEGIN:VCALENDAR
VERSION:2.0
PRODID:-//FIKTA - ECPv6.7.1//NONSGML v1.0//EN
CALSCALE:GREGORIAN
METHOD:PUBLISH
X-ORIGINAL-URL:https://fikta.it
X-WR-CALDESC:Eventi per FIKTA
REFRESH-INTERVAL;VALUE=DURATION:PT1H
X-Robots-Tag:noindex
X-PUBLISHED-TTL:PT1H
BEGIN:VTIMEZONE
TZID:Europe/Rome
BEGIN:DAYLIGHT
TZOFFSETFROM:+0100
TZOFFSETTO:+0200
TZNAME:CEST
DTSTART:20240331T010000
END:DAYLIGHT
BEGIN:STANDARD
TZOFFSETFROM:+0200
TZOFFSETTO:+0100
TZNAME:CET
DTSTART:20241027T010000
END:STANDARD
END:VTIMEZONE
BEGIN:VEVENT
DTSTART;TZID=Europe/Rome:20241103T090000
DTEND;TZID=Europe/Rome:20241103T120000
DTSTAMP:20260425T124331
CREATED:20240916T093445Z
LAST-MODIFIED:20241102T180615Z
UID:5856-1730624400-1730635200@fikta.it
SUMMARY:CSAK EMILIA ROMAGNA - CORSO AGONISTI FIKTA 2024/2025
DESCRIPTION:CORSO AGONISTI CSAK EMILIA ROMAGNA\nANNO 2024/2025 \nPrimo allenamento Domenica 13 ottobre 2024\npresso\nSAN GIORGIO DI PIANO (BO) – CENTRO SPORTIVO PAOLO ZANARDI\nOre 09:00 12:00\nVia Argelato 1\, 40016 San Giorgio di Piano BO \nAllenamenti CSAK e PRECSAK\nDopo il periodo di vacanze estive\, faremo ripartire gli allenamenti del gruppo CSAK e PRECSAK. Si rammenta che il precsak è aperto da cintura verde\, età minima 13 anni. Le iscrizioni che dovranno giungere entro il 30 settembre utilizzando l’apposito modulo (vedi link sotto) che troverete sul portale alla sezione Moduli.\nLe iscrizioni varranno solamente per queste tre date.\nDate:\n● 13 ottobre 2024\n● 3 novembre\n● 1 dicembre\nLuogo: palestra di via Argelato 1 \, San Giorgio di Piano (BO).\nOrario:\ndomenica mattina dalle ore 9 alle ore 12\nsia per il kata che per il kumite. \nSito FIKTA Emilia Romagna (google.com) \nScarica la circolare del Comitato Regionale
URL:https://fikta.it/evento/csak-emilia-2024-2025/
LOCATION:San Giorgio di Piano (BO) Centro sportivo Zanardi\, via Argelato 2\, San Giorgio di Piano (BO)
CATEGORIES:CSAK
ATTACH;FMTTYPE=image/jpeg:https://fikta.it/wp-content/uploads/2024/09/Locandina-partenza-CSAK-Emilia-2024-2025.jpg
END:VEVENT
END:VCALENDAR