BEGIN:VCALENDAR
VERSION:2.0
PRODID:-//FIKTA - ECPv6.7.1//NONSGML v1.0//EN
CALSCALE:GREGORIAN
METHOD:PUBLISH
X-WR-CALNAME:FIKTA
X-ORIGINAL-URL:https://fikta.it
X-WR-CALDESC:Eventi per FIKTA
REFRESH-INTERVAL;VALUE=DURATION:PT1H
X-Robots-Tag:noindex
X-PUBLISHED-TTL:PT1H
BEGIN:VTIMEZONE
TZID:Europe/Rome
BEGIN:DAYLIGHT
TZOFFSETFROM:+0100
TZOFFSETTO:+0200
TZNAME:CEST
DTSTART:20260329T010000
END:DAYLIGHT
BEGIN:STANDARD
TZOFFSETFROM:+0200
TZOFFSETTO:+0100
TZNAME:CET
DTSTART:20261025T010000
END:STANDARD
END:VTIMEZONE
BEGIN:VEVENT
DTSTART;TZID=Europe/Rome:20260418T143000
DTEND;TZID=Europe/Rome:20260418T180000
DTSTAMP:20260423T071454
CREATED:20260407T124740Z
LAST-MODIFIED:20260416T071931Z
UID:12531-1776522600-1776535200@fikta.it
SUMMARY:CORSO CSAK LAZIO - CASTELLIRI (FR) - 18 APRILE 2026
DESCRIPTION:CORSO CSAK LAZIO – 18 APRILE 2026\n \nSegnaliamo che il prossimo appuntamento del corso CSAK LAZIO si terrà sabato 18 aprile 2026\, presso la palestra della scuola media statale Padre Rodrigo di Rocco in Via Colle 32 – 03030 Castelliri (FR)\, con il seguente orario:\nore 14\,30 Ritrovo\nore 15\,00/18\,00 Corso\nCordiali saluti
URL:https://fikta.it/evento/csakla-180426/
LOCATION:Palestra Padre Rodrigo di Rocco in Via Colle 32 – 03030 Castelliri (FR)\,\, Via Colle 32\, Castelliri (FR)\,\, 03030\, Italy
CATEGORIES:CSAK,Eventi,Lazio
ATTACH;FMTTYPE=image/jpeg:https://fikta.it/wp-content/uploads/2026/04/LOCANDINA-CSAK-LAZIO-18-APRILE-2026.jpeg
END:VEVENT
BEGIN:VEVENT
DTSTART;TZID=Europe/Rome:20260419T093000
DTEND;TZID=Europe/Rome:20260419T123000
DTSTAMP:20260423T071454
CREATED:20260416T072512Z
LAST-MODIFIED:20260416T085122Z
UID:12543-1776591000-1776601800@fikta.it
SUMMARY:CSAK + CORSO ARBITRI E TECNICI EMILIA ROMAGNA - RAVENNA - 19 APRILE 2026
DESCRIPTION:CSAK + CORSO ARBITRI E TECNICI EMILIA ROMAGNA – RAVENNA – 19 APRILE 2026 \nInformiamo che il prossimo incontro CSAK Emilia Romagna 2026 si terrà il giorno 19 aprile 2026 presso la palestra dell’Istituto ITIS Baldini di Via Cassino 71A a Ravenna (RA) dalle ore 9\,30 alle ore 12\,30.\nIn contemporanea al corso CSAK si terrà l’aggiornamento Arbitri e Tecnici della regione.\nGrazie e cordiali saluti.\nSegreteria\nFikta ASD
URL:https://fikta.it/evento/csakem-190426/
LOCATION:PALESTRA ITIS BALDINI RAVENNA\, Via Cassino 71a\, Ravenna\, 48124\, Italy
CATEGORIES:CSAK,Emilia Romagna,Eventi
ATTACH;FMTTYPE=image/jpeg:https://fikta.it/wp-content/uploads/2026/04/LOCANDINA-CSAK-EMILIA-ARBITRI-E-TECNICI-19-APRILE-2026.jpeg
END:VEVENT
BEGIN:VEVENT
DTSTART;TZID=Europe/Rome:20260419T093000
DTEND;TZID=Europe/Rome:20260419T123000
DTSTAMP:20260423T071454
CREATED:20260417T095451Z
LAST-MODIFIED:20260417T111058Z
UID:12554-1776591000-1776601800@fikta.it
SUMMARY:CSAK + CORSO ARBITRI VENETO - VIGONZA (PD) - 19 APRILE 2026
DESCRIPTION:CSAK + CORSO ARBITRI VENETO – VIGONZA (PD) – 19 APRILE 2026 \nInformiamo che il prossimo incontro CSAK Veneto 2026 si terrà il giorno 19 aprile 2026 presso il Palasport Perarolo-Busa in via Atene\, 9a a Vigonza (Padova) dalle ore 9\,30 alle ore 12\,30.\nIn contemporanea al corso CSAK si terrà l’aggiornamento Arbitri della regione tenuto dal responsabile arbitri regionale Maestro Andrea Abbate.\nIn occasione dell’aggiornamento arbitri si segnala che al termine del corso si terranno gli esami per il conseguimento della qualifica di arbitro regionale.\nGrazie e cordiali saluti.\nSegreteria\nFikta ASD
URL:https://fikta.it/evento/csakve-190426/
LOCATION:PALASPORT di PERAROLO-BUSA\, Via Atene 9a\, VIGONZA\, 35010\, Italy
CATEGORIES:CSAK,Eventi,Veneto
ATTACH;FMTTYPE=image/jpeg:https://fikta.it/wp-content/uploads/2026/04/LOCANDINA-CSAK-VENETO-ARBITRI-19-APRILE-2026.jpeg
END:VEVENT
BEGIN:VEVENT
DTSTART;VALUE=DATE:20260510
DTEND;VALUE=DATE:20260511
DTSTAMP:20260423T071454
CREATED:20250821T121343Z
LAST-MODIFIED:20260325T193813Z
UID:9351-1778371200-1778457599@fikta.it
SUMMARY:CORSO AGGIORNAMENTO ARBITRI E PDG + CSAK CALABRIA - LAUROPOLI (CS) - 10 MAGGIO 2026
DESCRIPTION:CORSO AGGIORNAMENTO ARBITRI E PDG + CSAK CALABRIA – LAUROPOLI (CS) – 10 MAGGIO 2026 \nSegnaliamo che il prossimo 10 maggio 2026\, in aggiunta all’appuntamento CSAK Calabria\, si terrà il Corso di aggiornamento Ufficiali di Gara 2025/2026 (Arbitri e Presidenti di Giuria) della regione Calabria presso presso la palestra dell’Istituto Comprensivo  via Feliciazza – 87011 Lauropoli (CS).\n \nPer informazioni\nPdG Sig.ra Gaetani Concetta mail  gaetaniconcetta@tiscali.it\nArbitri Maestro Antonio Ruscelli tel. 3397661178  mail antruscelli@tiscali.it \nCordiali saluti
URL:https://fikta.it/evento/udgca-100526/
LOCATION:PALESTRA IC FELICIAZZA LAUROPOLI (CS)\, Via Feliciazza\, 22\, Lauropoli\, 87011\, Italy
CATEGORIES:Calabria,CSAK,Eventi
ATTACH;FMTTYPE=image/jpeg:https://fikta.it/wp-content/uploads/2025/08/LOCANDINA-ARBITRI-PDG-CSAK-CALABRIA-1O-MAGGIO-2026.jpeg
END:VEVENT
BEGIN:VEVENT
DTSTART;TZID=Europe/Rome:20260613T143000
DTEND;TZID=Europe/Rome:20260613T180000
DTSTAMP:20260423T071454
CREATED:20260323T135805Z
LAST-MODIFIED:20260323T135955Z
UID:12196-1781361000-1781373600@fikta.it
SUMMARY:CORSO CSAK + AGGIORNAMENTO ARBITRI LAZIO - 13 GIUGNO 2026
DESCRIPTION:CORSO CSAK + AGGIORNAMENTO ARBITRI LAZIO – 13 GIUGNO 2026\n \nSegnaliamo che il prossimo appuntamento del corso CSAK LAZIO si terrà sabato 13 giugno 2026\, luogo da definire\, con il seguente orario:\nore 14\,30 Ritrovo\nore 15\,00/18\,00 Corso\nIn contemporanea al corso sopra indicato si terrà il 5° corso di aggiornamento arbitri regionale Lazio.\nCordiali saluti
URL:https://fikta.it/evento/csak-lazio-130626/
CATEGORIES:CSAK,Eventi,Lazio
END:VEVENT
END:VCALENDAR