BEGIN:VCALENDAR
VERSION:2.0
PRODID:-//FIKTA - ECPv6.7.1//NONSGML v1.0//EN
CALSCALE:GREGORIAN
METHOD:PUBLISH
X-WR-CALNAME:FIKTA
X-ORIGINAL-URL:https://fikta.it
X-WR-CALDESC:Eventi per FIKTA
REFRESH-INTERVAL;VALUE=DURATION:PT1H
X-Robots-Tag:noindex
X-PUBLISHED-TTL:PT1H
BEGIN:VTIMEZONE
TZID:Europe/Rome
BEGIN:DAYLIGHT
TZOFFSETFROM:+0100
TZOFFSETTO:+0200
TZNAME:CEST
DTSTART:20250330T010000
END:DAYLIGHT
BEGIN:STANDARD
TZOFFSETFROM:+0200
TZOFFSETTO:+0100
TZNAME:CET
DTSTART:20251026T010000
END:STANDARD
END:VTIMEZONE
BEGIN:VEVENT
DTSTART;TZID=Europe/Rome:20251213T150000
DTEND;TZID=Europe/Rome:20251213T183000
DTSTAMP:20260423T101853
CREATED:20251206T161650Z
LAST-MODIFIED:20251207T134851Z
UID:11187-1765638000-1765650600@fikta.it
SUMMARY:CORSO CSAK 2025/2026 SARDEGNA  - PORTO TORRES (SS) - 13 DICEMBRE 2025
DESCRIPTION:CORSO CSAK 2025/2026 SARDEGNA  – PORTO TORRES (SS) – 13 DICEMBRE 2025 \nAbbiamo il piacere di segnalare che il prossimo allenamento del corso CSAK Sardegna si terrà sabato 13 dicembre 2025 presso la Palestra “Antonello Nardi” Piazza Don Milani – 07046 Porto Torres (SS) \nPROGRAMMA\nOre 15\,00 ritrovo\nOre 15\,30-18\,30 allenamento
URL:https://fikta.it/evento/csaksa-131225/
LOCATION:PALESTRA ANTONELLO NARDI PORTO TORRES (SS)\, Piazza Don Milani\, Porto Torres (SS)\, 07046\, Italy
CATEGORIES:CSAK,Eventi,Sardegna
ATTACH;FMTTYPE=image/jpeg:https://fikta.it/wp-content/uploads/2025/12/Immagine-WhatsApp-2025-12-07-ore-12.06.37_7a851f6c.jpg
END:VEVENT
BEGIN:VEVENT
DTSTART;TZID=Europe/Rome:20251214T090000
DTEND;TZID=Europe/Rome:20251214T113000
DTSTAMP:20260423T101853
CREATED:20251203T085228Z
LAST-MODIFIED:20251213T074815Z
UID:11151-1765702800-1765711800@fikta.it
SUMMARY:CORSO CSAK 2025/2026 FRIULI VENEZIA GIULIA - MARSURE DI POVOLETTO (UD) - 14 DICEMBRE 2025
DESCRIPTION:CORSO CSAK 2025/2026 FRIULI VENEZIA GIULIA – MARSURE DI POVOLETTO (UD) – 14 DICEMBRE 2025 \nAbbiamo il piacere di segnalare che il prossimo allenamento del corso CSAK Friuli Venezia Giulia si terrà domenica 14 dicembre 2025 presso il Palazzetto di Marsure di Povoletto (UD) – 33040 \nPROGRAMMA\nOre 9\,00 ritrovo\nOre 9\,30 11\,30 allenamento
URL:https://fikta.it/evento/csak-friuli-141225/
LOCATION:PALAZZETTO MARSURE DI POVOLETTO (UD)\, PALAZZETTO MARSURE DI POVOLETTO (UD)\, MARSURE DI POVOLETTO (UD)\, 33040\, Italy
CATEGORIES:CSAK,Eventi,Friuli VG
ATTACH;FMTTYPE=image/jpeg:https://fikta.it/wp-content/uploads/2025/12/Immagine-WhatsApp-2025-12-02-ore-09.23.42_f7feaece.jpg
END:VEVENT
BEGIN:VEVENT
DTSTART;TZID=Europe/Rome:20251221T093000
DTEND;TZID=Europe/Rome:20251221T123000
DTSTAMP:20260423T101853
CREATED:20251127T103239Z
LAST-MODIFIED:20251127T143010Z
UID:10717-1766309400-1766320200@fikta.it
SUMMARY:CORSO CSAK + CORSO ARBITRI EMILIA ROMAGNA 2025/2026 - RAVENNA (RA) - 21 DICEMBRE 2025
DESCRIPTION:CORSO CSAK + CORSO ARBITRI EMILIA ROMAGNA 2025/2026 – RAVENNA (RA) – 21 DICEMBRE 2025 \nAllenamento Domenica 21 dicembre 2025\npresso PALESTRA ISTITUTO ITIS BALDINI – Via Cassino 71A – Ravenna (RA)\nOre 09\,30 12\,30
URL:https://fikta.it/evento/csak-emilia-211225/
LOCATION:PALESTRA ITIS BALDINI RAVENNA\, Via Cassino 71a\, Ravenna\, 48124\, Italy
CATEGORIES:CSAK,Emilia Romagna,Eventi
ATTACH;FMTTYPE=image/jpeg:https://fikta.it/wp-content/uploads/2025/11/Immagine-WhatsApp-2025-11-27-ore-15.02.30_b55b1970.jpg
END:VEVENT
END:VCALENDAR