BEGIN:VCALENDAR
VERSION:2.0
PRODID:-//FIKTA - ECPv6.7.1//NONSGML v1.0//EN
CALSCALE:GREGORIAN
METHOD:PUBLISH
X-WR-CALNAME:FIKTA
X-ORIGINAL-URL:https://fikta.it
X-WR-CALDESC:Eventi per FIKTA
REFRESH-INTERVAL;VALUE=DURATION:PT1H
X-Robots-Tag:noindex
X-PUBLISHED-TTL:PT1H
BEGIN:VTIMEZONE
TZID:Europe/Rome
BEGIN:DAYLIGHT
TZOFFSETFROM:+0100
TZOFFSETTO:+0200
TZNAME:CEST
DTSTART:20250330T010000
END:DAYLIGHT
BEGIN:STANDARD
TZOFFSETFROM:+0200
TZOFFSETTO:+0100
TZNAME:CET
DTSTART:20251026T010000
END:STANDARD
END:VTIMEZONE
BEGIN:VEVENT
DTSTART;TZID=Europe/Rome:20251109T090000
DTEND;TZID=Europe/Rome:20251109T123000
DTSTAMP:20260423T112542
CREATED:20251103T103824Z
LAST-MODIFIED:20251103T103916Z
UID:10395-1762678800-1762691400@fikta.it
SUMMARY:EVENTO CSAK + CORSO AGGIORNAMENTO ARBITRI EMILIA-ROMAGNA - 9 NOVEMBRE 2025 - PARMA (PR)
DESCRIPTION:EVENTO CSAK + CORSO AGGIORNAMENTO ARBITRI EMILIA-ROMAGNA\n9 NOVEMBRE 2025 – PARMA (PR) \nAbbiamo il piacere di segnalare che il prossimo 9 novembre 2025 presso l’Istituto Comprensivo Arturo Toscanini – Via Cuneo 3/a – 43122 Parma (PR) si terrà il prossimo appuntamento per il corso agonisti Csak a cui si aggiunge il corso di aggiornamento regionale Arbitri Emilia-Romagna. L’evento è patrocinato dal Comune di Parma. \nPROGRAMMA\nOre 9\,00 ritrovo\nOre 9\,30 – 12\,30 evento \n 
URL:https://fikta.it/evento/csak-091125/
LOCATION:PALESTRA ARTURO TOSCANINI PARMA (PR)\, Via Cuneo 3/a\, Parma (PR)\, 43122\, Italy
CATEGORIES:CSAK,Emilia Romagna,Eventi
ATTACH;FMTTYPE=image/jpeg:https://fikta.it/wp-content/uploads/2025/11/Immagine-WhatsApp-2025-10-23-ore-16.47.37_2c3799e1.jpg
END:VEVENT
BEGIN:VEVENT
DTSTART;TZID=Europe/Rome:20251115T143000
DTEND;TZID=Europe/Rome:20251115T180000
DTSTAMP:20260423T112542
CREATED:20251107T122007Z
LAST-MODIFIED:20251107T195125Z
UID:10634-1763217000-1763229600@fikta.it
SUMMARY:PARTENZA CORSO CSAK PUGLIA 2025/2026 – PROSSIMO INCONTRO 15 NOVEMBRE 2025 – TARANTO (TA) PALESTRA OKINAWA
DESCRIPTION:PARTENZA CORSO CSAK PUGLIA 2025/2026 – PROSSIMO INCONTRO 15 NOVEMBRE 2025 – TARANTO (TA) PALESTRA OKINAWA \nAbbiamo il piacere di informare che è partito il Corso Specialistico Agonisti Karate – CSAK – Fikta della regione PUGLIA per l’anno 2025/2026. \nUna grande opportunità\, sia per tutti gli atleti che si vogliono avvicinare al mondo delle competizioni di karate che per coloro che vogliono effettuare un percorso di specializzazione e approfondimento agonistico con docenti di altissimo livello. Una scelta vincente per migliorare la propria preparazione agonistica/atletica e confrontarsi con gli agonisti della propria regione. \nIl corso è aperto a tutti gli associati Fikta in regola con le procedure di iscrizione\, certificato medico agonistico e grado caricato sul portale Fikta.Cloud. Per partecipare agli incontri è necessario essere muniti delle protezioni regolamentari da gara e di abbigliamento idoneo per effettuare la preparazione atletica (secondo richieste dei docenti). \nL’iscrizione è consentita\, tramite i propri referenti tecnici\, a partire dalla categoria esordienti fino alla categoria seniores (35 anni) con grado minimo cintura gialla. \nSTAFF TECNICO DOCENTI\nRiccardo Ghislanzoni (Responsabile)\nAngelo Potere \nDATE INCONTRI\n15 novembre 2025 – presso Palestra Okinawa – Viale del Lavoro 13 – 74123 Taranto (TA)\nGli eventi successivi saranno comunicati prossimamente \nORARIO APPUNTAMENTI\nOre 15\,30 ritrovo\nOre 16\,00 – 18\,00 allenamento\n \nQUOTE E ISCRIZIONE\nLa quota di partecipazione è pari a 15\,00 euro.\nLe iscrizioni dovranno essere effettuate dal Referente Tecnico sul portale  www.fikta.cloud  a partire dal 8 novembre 2025. \nRestiamo a disposizione per ogni informazione. \n0Grazie e cordiali saluti.\nSegreteria\nFIKTA ASD \nReferente Territoriale Puglia\nM° angelo Potere
URL:https://fikta.it/evento/csakpuglia-151125/
LOCATION:PALESTRA OKINAWA TARANTO (TA)\, Viale del Lavoro 13\, Taranto (TA)\, 74123\, Italy
CATEGORIES:CSAK,Eventi,Puglia
ATTACH;FMTTYPE=image/jpeg:https://fikta.it/wp-content/uploads/2025/11/Immagine-WhatsApp-2025-11-07-ore-17.29.40_1e362e19.jpg
END:VEVENT
BEGIN:VEVENT
DTSTART;TZID=Europe/Rome:20251116T100000
DTEND;TZID=Europe/Rome:20251116T120000
DTSTAMP:20260423T112542
CREATED:20251113T104031Z
LAST-MODIFIED:20251114T075550Z
UID:10681-1763287200-1763294400@fikta.it
SUMMARY:CORSO CSAK FRIULI VENZIA GIULIA 2025/2026 – PROSSIMO INCONTRO 16 NOVEMBRE 2025 – PALAZZETTO MARSURE DI POVOLETTO (UDINE)
DESCRIPTION:CORSO CSAK FRIULI VENZIA GIULIA 2025/2026 – PROSSIMO INCONTRO 16 NOVEMBRE 2025 – PALAZZETTO MARSURE DI POVOLETTO (UDINE) \nAbbiamo il piacere di informare che il prossimo 16 novembre 2025 inizierà il Corso Specialistico Agonisti Karate – CSAK – Fikta della regione FRIULI VENEZIA GIULIA per l’anno 2025/2026. \nGli incontri\, in provincia di Udine saranno una grande opportunità per tutti gli atleti che vogliono  effettuare un percorso di specializzazione e approfondimento agonistico. Una scelta vincente per migliorare la propria preparazione agonistica/atletica e confrontarsi con gli agonisti della propria regione \nIl corso è aperto a tutti gli associati Fikta in regola con le procedure di iscrizione\, certificato medico agonistico e grado caricato sul portale Fikta.Cloud. Per partecipare agli incontri è necessario essere muniti delle protezioni regolamentari da gara e di abbigliamento idoneo per effettuare la preparazione atletica (secondo richieste del docente). \nL’iscrizione è consentita\, tramite i propri referenti tecnici\, dalla categoria esordienti fino alla categoria seniores (35 anni) con grado minimo cintura marrone. Non si esclude una successiva apertura ai gradi verde / blu. \nSTAFF TECNICO DOCENTI\nMaestro Romano Cimenti (Responsabile Tecnico Regionale) \nDATE INCONTRI\n16 novembre 2025 – Palazzetto Povoletto – Via Locanda\, 33040 Marsure di Povoletto (UD)\n14 dicembre 2025 – Palazzetto Povoletto – Via Locanda\, 33040 Marsure di Povoletto (UD)\nGennaio 2026 (da definire)\nFebbraio 2026 (da definire)\nMarzo 2026 (da definire)\nAprile 2026 (da definire)\nMaggio 2026 (da definire) \nLe date del 2026 saranno definite in base al calendario nazionale e potrebbero subire variazioni secondo le necessità organizzative. \nORARIO APPUNTAMENTI\nPer il primo appuntamento del 16 novembre 2025\nOre 10\,00 ritrovo\nOre 10\,30 – 12\,00 allenamento\nL’orario degli appuntamenti successivi sarà confermato di volta in volta \nQUOTE E ISCRIZIONE\nL’eventuale quota di partecipazione sarà definita in base alle adesioni del corso.\nLe iscrizioni dovranno essere effettuate dal Referente Tecnico sul portale  www.fikta.cloud  a partire dal 14 novembre 2025. \nAGGIORNAMENTO ARBITRI E PDG REGIONALE\nInformiamo che in occasione del primo appuntamento CSAK del 16 novembre 2025\, stessi orari CSAK e stesso luogo\, si terrà anche l’aggiornamento regionale Arbitri e PdG Nazionali\, Regionali e Aspiranti.\nResponsabile Arbitri FIKTA FVG:  Arbitro Sergio Stoka  \nResponsabile Presidenti di Giuria FIKTA FVG:  PdG Marco Di Benedetto \nRestiamo a disposizione per ogni informazione. \nGrazie e cordiali saluti.\nSegreteria\nFIKTA ASD \nReferente Territoriale Friuli Venezia Giulia\nM° Vincenzo Bellantuono
URL:https://fikta.it/evento/csak-friuli-161125/
LOCATION:PALAZZETTO POVOLETTO (UD)\, Via Locanda\,\, Marsure di Povoletto (UD)\, 33040\, Italy
CATEGORIES:CSAK,Eventi,Friuli VG
ATTACH;FMTTYPE=image/jpeg:https://fikta.it/wp-content/uploads/2025/11/Immagine-WhatsApp-2025-11-13-ore-15.46.39_3a3f75a0.jpg
END:VEVENT
BEGIN:VEVENT
DTSTART;TZID=Europe/Rome:20251129T143000
DTEND;TZID=Europe/Rome:20251129T180000
DTSTAMP:20260423T112542
CREATED:20251029T105923Z
LAST-MODIFIED:20251030T103630Z
UID:10376-1764426600-1764439200@fikta.it
SUMMARY:PARTENZA CORSO CSAK LAZIO 2025/2026 - PROSSIMO INCONTRO 29 NOVEMBRE 2025 - ACCADEMIA COSTANTINI LABARO (RM)
DESCRIPTION:PARTENZA CORSO CSAK LAZIO 2025/2026 – PROSSIMO INCONTRO 29 NOVEMBRE 2025 – ACCADEMIA COSTANTINI LABARO (RM) \nAbbiamo il piacere di informare che è partito il Corso Specialistico Agonisti Karate – CSAK – Fikta della regione LAZIO per l’anno 2025/2026. \n11 incontri\, distribuiti sulle provincie di Roma\, Rieti e Frosinone\, per una grande opportunità\, sia per tutti gli atleti che si vogliono avvicinare al mondo delle competizioni di karate che per coloro che vogliono effettuare un percorso di specializzazione e approfondimento agonistico con docenti di altissimo livello a loro volta campioni nazionali e internazionali. Una scelta vincente per migliorare la propria preparazione agonistica/atletica e confrontarsi con gli agonisti della propria regione. \nIl corso è aperto a tutti gli associati Fikta in regola con le procedure di iscrizione\, certificato medico agonistico e grado caricato sul portale Fikta.Cloud. Per partecipare agli incontri è necessario essere muniti delle protezioni regolamentari da gara e di abbigliamento idoneo per effettuare la preparazione atletica (secondo richieste dei docenti). \nL’iscrizione è consentita\, tramite i propri referenti tecnici\, a partire dalla categoria esordienti fino alla categoria seniores (35 anni) con grado minimo cintura blu. \nSTAFF TECNICO DOCENTI\nLuca Pavoni (Responsabile)\nRiccardo Binaco\nAndrea Mostarda\nGiovanni Spinelli\nMarco Paolucci\nIlaria Dionisi\nMarco Mattacola\nAlessio Sperati\nMatteo Magrini \nDATE INCONTRI\n27 settembre 2025\n11 ottobre 2025 (Triangolare con Umbria e Campania)\n25 ottobre 2025\n29 novembre 2025 – presso Palestra Accademia Renato Costantini – Via Offanengo\, 68\, 00188 Labaro (RM)\n25 gennaio 2026\n7 febbraio 2026\n7 marzo 2026\n11 aprile 2026\n16 maggio 2026\n13 giugno 2026\n18 luglio 2026 (Evento di chiusura) \nLe date del 2026 potrebbero subire variazioni secondo le necessità organizzative. \nORARIO APPUNTAMENTI\nIndicativamente ore 14\,30 ritrovo – allenamento dalle 15\,00 alle 18\,00\nL’orario preciso sarà confermato di volta in volta \nQUOTE E ISCRIZIONE\nLa quota di partecipazione è GRATUITA.\nLe iscrizioni dovranno essere effettuate dal Referente Tecnico sul portale  www.fikta.cloud  a partire dal 29 ottobre 2025. \nRestiamo a disposizione per ogni informazione. \nGrazie e cordiali saluti.\nSegreteria\nFIKTA ASD \nReferente Territoriale Lazio\nM° Cesare Mostarda
URL:https://fikta.it/evento/csak-lazio-2526/
LOCATION:ACCADEMIA SPORTIVA COSTANTINI ROMA\, Via Offanengo 68\, ROMA\, 00188\, Italy
CATEGORIES:CSAK,Eventi,Lazio
ATTACH;FMTTYPE=image/jpeg:https://fikta.it/wp-content/uploads/2025/10/Immagine-WhatsApp-2025-10-30-ore-10.25.55_cc20cc0f.jpg
END:VEVENT
END:VCALENDAR