BEGIN:VCALENDAR
VERSION:2.0
PRODID:-//FIKTA - ECPv6.7.1//NONSGML v1.0//EN
CALSCALE:GREGORIAN
METHOD:PUBLISH
X-ORIGINAL-URL:https://fikta.it
X-WR-CALDESC:Eventi per FIKTA
REFRESH-INTERVAL;VALUE=DURATION:PT1H
X-Robots-Tag:noindex
X-PUBLISHED-TTL:PT1H
BEGIN:VTIMEZONE
TZID:Europe/Rome
BEGIN:DAYLIGHT
TZOFFSETFROM:+0100
TZOFFSETTO:+0200
TZNAME:CEST
DTSTART:20250330T010000
END:DAYLIGHT
BEGIN:STANDARD
TZOFFSETFROM:+0200
TZOFFSETTO:+0100
TZNAME:CET
DTSTART:20251026T010000
END:STANDARD
END:VTIMEZONE
BEGIN:VEVENT
DTSTART;TZID=Europe/Rome:20250705T094500
DTEND;TZID=Europe/Rome:20250705T130000
DTSTAMP:20260423T212412
CREATED:20250627T132654Z
LAST-MODIFIED:20250627T132844Z
UID:9051-1751708700-1751720400@fikta.it
SUMMARY:CORSO AGONISTI CSAK LAZIO ANNO 2025 – 5 LUGLIO 2025 – VEROLI (FR)
DESCRIPTION:CORSO AGONISTI CSAK LAZIO ANNO 2025 – 5 LUGLIO 2025 – VEROLI (FR) \nAllenamento sabato 5 luglio 2025\npresso PALESTRA FLEX N FIT – Via P. Mignardi 14 – 03029 Veroli (FR)\nTenuto dai seguenti tecnici: Luca Pavoni\, Riccardo Binaco\, Giovanni Spinelli\, Ilaria Dionisi\, Andrea Mostarda\, Marco Paolucci\, Matteo Magrini\, Marco Mattacola e Alessio Sperati\nRitrovo ore 9.45\nPratica ore 10\,00 – 13\,00\nDefaticamento in piscina ore 13\,10
URL:https://fikta.it/evento/csak-lazio-250705/
LOCATION:FLEXnFIT VEROLI (FR)\, Via Prima Mignardi 14\, Veroli\, 03029\, Italy
CATEGORIES:CSAK,Lazio
ATTACH;FMTTYPE=image/jpeg:https://fikta.it/wp-content/uploads/2025/06/Immagine-WhatsApp-2025-06-27-ore-12.50.38_a208ef54.jpg
END:VEVENT
END:VCALENDAR