BEGIN:VCALENDAR
VERSION:2.0
PRODID:-//FIKTA - ECPv6.7.1//NONSGML v1.0//EN
CALSCALE:GREGORIAN
METHOD:PUBLISH
X-ORIGINAL-URL:https://fikta.it
X-WR-CALDESC:Eventi per FIKTA
REFRESH-INTERVAL;VALUE=DURATION:PT1H
X-Robots-Tag:noindex
X-PUBLISHED-TTL:PT1H
BEGIN:VTIMEZONE
TZID:Europe/Rome
BEGIN:DAYLIGHT
TZOFFSETFROM:+0100
TZOFFSETTO:+0200
TZNAME:CEST
DTSTART:20250330T010000
END:DAYLIGHT
BEGIN:STANDARD
TZOFFSETFROM:+0200
TZOFFSETTO:+0100
TZNAME:CET
DTSTART:20251026T010000
END:STANDARD
END:VTIMEZONE
BEGIN:VEVENT
DTSTART;TZID=Europe/Rome:20250621T143000
DTEND;TZID=Europe/Rome:20250621T180000
DTSTAMP:20260424T021723
CREATED:20250520T094651Z
LAST-MODIFIED:20250609T134435Z
UID:8612-1750516200-1750528800@fikta.it
SUMMARY:CORSO AGONISTI CSAK LAZIO ANNO 2025 – 21 GIUGNO 2025 – RIETI (RI)
DESCRIPTION:CORSO AGONISTI CSAK LAZIO ANNO 2025 – 21 GIUGNO 2025 – RIETI (RI)\nATTENZIONE NUOVA DATA E LUOGO ! \nAllenamento 21 giugno 2025\npresso PALAMALFATTI – Via Padronetti 1 – 02100 Rieti (RI)\nDocenti del corso : Luca Pavoni\, Riccardo Binaco\, Marco Paolucci\, Giovanni Spinelli\, Ilaria Dionisi\, Marco Mattacola\, Matteo Magrini e Alessio Sperati\nRitrovo ore 14\,30\nPratica ore 15\,00 – 18\,00
URL:https://fikta.it/evento/csak-lazio-210625/
LOCATION:PALAMALFATTI RIETI VIA PADRONETTI 1\, VIA PADRONETTI 1\, RIETI\, 02100\, Italy
CATEGORIES:CSAK,Eventi,Lazio
ATTACH;FMTTYPE=image/jpeg:https://fikta.it/wp-content/uploads/2025/05/Immagine-WhatsApp-2025-06-09-ore-14.39.54_6d812d11.jpg
END:VEVENT
END:VCALENDAR