BEGIN:VCALENDAR
VERSION:2.0
PRODID:-//FIKTA - ECPv6.7.1//NONSGML v1.0//EN
CALSCALE:GREGORIAN
METHOD:PUBLISH
X-WR-CALNAME:FIKTA
X-ORIGINAL-URL:https://fikta.it
X-WR-CALDESC:Eventi per FIKTA
REFRESH-INTERVAL;VALUE=DURATION:PT1H
X-Robots-Tag:noindex
X-PUBLISHED-TTL:PT1H
BEGIN:VTIMEZONE
TZID:Europe/Rome
BEGIN:DAYLIGHT
TZOFFSETFROM:+0100
TZOFFSETTO:+0200
TZNAME:CEST
DTSTART:20250330T010000
END:DAYLIGHT
BEGIN:STANDARD
TZOFFSETFROM:+0200
TZOFFSETTO:+0100
TZNAME:CET
DTSTART:20251026T010000
END:STANDARD
END:VTIMEZONE
BEGIN:VEVENT
DTSTART;TZID=Europe/Rome:20250223T160000
DTEND;TZID=Europe/Rome:20250223T190000
DTSTAMP:20260424T233733
CREATED:20250212T121503Z
LAST-MODIFIED:20250314T215927Z
UID:7527-1740326400-1740337200@fikta.it
SUMMARY:CORSO CSAK AGONISTI E PRE-AGONISTI SARDEGNA - THIESI (SS) - 23 FEBBRAIO 2025
DESCRIPTION:CORSO CSAK AGONISTI E PRE-AGONISTI SARDEGNA – THIESI (SS) – 23 FEBBRAIO 2025 \nInformiamo che il prossimo 23 febbraio 2025 si terrà il corso agonisti e preagonisti CSAK Sardegna presso la Palestra della Scuola Media Secondaria di Via Garau – 07047 – Thiesi (SS) con il seguente programma: \nOrario dalle 16\,00 alle 19\,00 \nPer informazioni scrivere a mocciga@tiscali.it
URL:https://fikta.it/evento/csak-sardegna-02032025/
LOCATION:PALESTRA SCUOLA SECONDARIA THIESI (SS)\, VIA GARAU\, THIESI\, 07047\, Italy
CATEGORIES:CSAK,Eventi
END:VEVENT
END:VCALENDAR