BEGIN:VCALENDAR
VERSION:2.0
PRODID:-//FIKTA - ECPv6.7.1//NONSGML v1.0//EN
CALSCALE:GREGORIAN
METHOD:PUBLISH
X-WR-CALNAME:FIKTA
X-ORIGINAL-URL:https://fikta.it
X-WR-CALDESC:Eventi per FIKTA
REFRESH-INTERVAL;VALUE=DURATION:PT1H
X-Robots-Tag:noindex
X-PUBLISHED-TTL:PT1H
BEGIN:VTIMEZONE
TZID:Europe/Rome
BEGIN:DAYLIGHT
TZOFFSETFROM:+0100
TZOFFSETTO:+0200
TZNAME:CEST
DTSTART:20260329T010000
END:DAYLIGHT
BEGIN:STANDARD
TZOFFSETFROM:+0200
TZOFFSETTO:+0100
TZNAME:CET
DTSTART:20261025T010000
END:STANDARD
END:VTIMEZONE
BEGIN:VEVENT
DTSTART;VALUE=DATE:20260425
DTEND;VALUE=DATE:20260427
DTSTAMP:20260426T015038
CREATED:20250706T133412Z
LAST-MODIFIED:20260418T114233Z
UID:9076-1777075200-1777247999@fikta.it
SUMMARY:2a COPPA ITALIA 2026 - PALA CATTANI FAENZA (RA) - 25/26 APRILE 2026
DESCRIPTION:2a COPPA ITALIA 2026 – PALA CATTANI FAENZA (RA) – 25/26 APRILE 2026 \nAbbiamo il piacere di segnalare che la seconda Coppa Italia 2026 si terrà presso il Pala Cattani – Piazzale Mario Tambini 5 – 48018 Faenza (RA) con il patrocinio del Comune di Faenza.\nIl programma previsto é il seguente: \nPROGRAMMA\nGli orari sotto indicati potranno subire modifiche secondo il numero d’iscrizioni finale \nSABATO\nORE 09:30 RITROVO\nORE 10.00 INIZIO GARA \nKATA SQUADRE\nEsordienti\nCadetti\nSperanze\nJuniores\nSeniores\nMaster \nKATA INDIVIDUALE\nEsordienti: 12/13/14 anni (2014–2013–2012)\nCadetti: 15/16 anni (2011 – 2010)\nSperanze: 17/18 anni (2009 – 2008)\nJuniores: 19/20/21 anni (2007-2006-2005)\nSeniores: 22/35 anni (dal 1991 al 2004)\nMaster: +35 anni (dal 1990) \nKUMITE INDIVIDUALE\nEsordienti: 12/13/14 anni (2014–2013–2012)\nCadetti: 15/16 anni (2011 – 2010)\nSperanze: 17/18 anni (2009 – 2008)\nJuniores: 19/20/21 anni (2007-2006-2005)\nSeniores: 22/35 anni (dal 1991 al 2004) \nKUMITE SQUADRE\nEsordienti \nORE 18:30 FINE (orario indicativo) \nDOMENICA\nORE 09:30 RITROVO\nORE 10:00 INIZIO GARA \nKATA INDIVIDUALE\nPulcini: 6/7 anni (2020 – 2019)\nBambini: 8/9 anni (2018 -2017)\nRagazzi: 10/11 anni (2016 – 2015) \nKUMITE INDIVIDUALE\nPulcini: 6/7 anni (2020 – 2019)\nBambini: 8/9 anni (2018 -2017)\nRagazzi: 10/11 anni (2016 – 2015) \nKATA SQUADRE\nPulcini\nBambini\nRagazzi \nORE 17:00 FINE (orario indicativo) \nIl programma definitivo con la time-line delle gare saranno comunicati al termine delle iscrizioni. \nREGOLAMENTO GENERALE\nLa competizione di Kata/Kumite\, individuale ed a Squadre\, è aperta agli atleti:\n· Pulcini – Bambini – Ragazzi – Esordienti (2012-2020) cinture colorate e nere\n· Agonisti (1991-2011) cinture colorate fino a blu\n· Master (prima del 1990) cinture colorate e nere \nSi segnala che gli agonisti (15-35 anni) cinture marroni e nere non possono partecipare alla Coppa Italia\, in quanto potranno gareggiare direttamente al Campionato Assoluto Italia. \nL’evento è aperto ai giovani atleti Fikta\, in regola con le procedure d’iscrizione per l’anno 2026\, con il certificato medico sportivo aggiornato per tutti e agonistico in corso di validità a partire dalla data di compimento dei 12 anni e gradi correttamente caricati sul portale www.fikta.cloud a partire dalla cintura gialla. \nLa divisione di categorie e gradi nelle specialità di kata e kumite saranno le seguenti:\nCategorie Pulcini/Bambini/Ragazzi gareggeranno maschi e femmine insieme\, gradi separati.\nLa categoria marrone-nera potrebbe essere accorpata in base al numero di partecipanti. \nCategorie Esordienti/Agonisti gareggeranno maschi e femmine separati\, gradi accorpati.\nInoltre\, nella gara di kumite:\n– le Categorie Esordienti marrone e nera/Agonisti saranno suddivise in 2 classi di peso.\n– le Categorie Esordienti fino a cintura blu e Pulcini/Bambini/Ragazzi non saranno divise in classi di peso\nPer la categoria Master non è prevista la gara di kumite; è comunque richiesto il certificato medico di idoneità all’agonismo. \n-> Scarica il regolamento completo COPPA ITALIA 2026 \n-> Scarica il regolamento MEDICO \n-> Scarica convenzioni HOTEL B&B RISTORANTI \nISCRIZIONI QUOTE\nLe iscrizioni si effettuano esclusivamente sul portale www.fikta.cloud e devono essere effettuate entro il 12 aprile 2026.\nFino alla data di scadenza i Referenti Tecnici possono effettuare variazioni e cancellazioni delle proprie iscrizioni.\nDopo la data di scadenza verranno formati i tabelloni di gara\, quindi\, non sarà più possibile effettuare modifiche. \n-> SCARICA LA TIME LINE AGGIORNATA DEI DUE GIORNI DI GARA \nUna volta definita la procedura d’iscrizione alle gare sopra riportate\, dovrà essere inviata copia delle iscrizioni (scaricata dal portale Fikta.Cloud) e del bonifico effettuato a  centroservizi@fikta.it.  secondo i seguenti criteri:\ntutte le categorie da esordienti a master – 20 euro per specialità e 45 euro le squadre\npulcini\, bambini e ragazzi – 15 euro per specialità e 15 euro le squadre \nIl pagamento\, che deve essere effettuato entro la scadenza dell’iscrizione dell’evento\, può essere effettuato sia con carta di credito/debito sul portale o tramite bonifico bancario intestato a FIKTA ASD sul seguente IBAN IT18H0760101600000016906208\nNella causale del bonifico intestato a Fikta ASD si prega d’inserire la seguente dicitura:\nNome cognome Referente Tecnico – Coppa Italia 26\nSegnaliamo che non sarà possibile effettuare pagamenti in contanti o il rimborso della quota versata. \nCon l’occasione porgiamo i più cordiali saluti. \nLa Segreteria\nFIKTA ASD \n 
URL:https://fikta.it/evento/coppaitalia-250426/
LOCATION:PALA CATTANI FAENZA (RA)\, Piazzale Mario Tambini 5\, Faenza (RA)\, 48018\, Italy
CATEGORIES:Eventi,Nazionale
ATTACH;FMTTYPE=image/jpeg:https://fikta.it/wp-content/uploads/2026/02/locandina2026_4-patrocinio-Faenza.jpg
END:VEVENT
END:VCALENDAR